BEGIN:VCALENDAR
VERSION:2.0
PRODID:-//ChamberMaster//Event Calendar 2.0//EN
METHOD:PUBLISH
X-PUBLISHED-TTL:P3D
REFRESH-INTERVAL:P3D
CALSCALE:GREGORIAN
BEGIN:VEVENT
DTSTART:20250326T200000Z
DTEND:20250326T210000Z
X-MICROSOFT-CDO-ALLDAYEVENT:FALSE
SUMMARY:Wisdom Wednesday with Arizona Department of Health and Safety
DESCRIPTION:Dive into a world of knowledge and growth at our Wisdom Wednesdays! We'll be learning about OSHA rules and regulations with the Arizona Department of Health and Safety. If you want a refresher on this information or if you have questions\, don't miss out on this opportunity.
X-ALT-DESC;FMTTYPE=text/html:Dive into a world of knowledge and growth at our Wisdom Wednesdays! We&#39\;ll be learning about OSHA rules and regulations with the Arizona Department of Health and Safety. If you want a refresher on this information or if you have questions\, don&#39\;t miss out on this opportunity.&nbsp\;
LOCATION:Oro Valley Chamber of Commerce 1822 E Innovation Park Dr
UID:e.801.3506
SEQUENCE:3
DTSTAMP:20260421T131312Z
URL:https://business.orovalleychamber.com/events/details/wisdom-wednesday-with-arizona-department-of-health-and-safety-3506
END:VEVENT

END:VCALENDAR
