BEGIN:VCALENDAR
VERSION:2.0
PRODID:-//ChamberMaster//Event Calendar 2.0//EN
METHOD:PUBLISH
X-PUBLISHED-TTL:P3D
REFRESH-INTERVAL:P3D
CALSCALE:GREGORIAN
BEGIN:VEVENT
DTSTART:20260414T213000Z
DTEND:20260414T230000Z
X-MICROSOFT-CDO-ALLDAYEVENT:FALSE
SUMMARY:Senior Services Collaborative Monthly Meeting
DESCRIPTION:This month Elisha Patrick\, a 3rd generation Brookdale employee will share stories and lessons learned growing up in the senior care community\n\nThe Senior Services Collaborative Monthly Meeting is a gathering that brings together local organizations and service providers to share resources\, discuss challenges\, and collaborate on innovative solutions. Each meeting typically features guest speakers presenting on relevant topics and open discussions aimed at fostering partnerships and improving access to services for seniors. It's a great opportunity to network\, exchange ideas\, and collectively work towards creating a more supportive environment for each other and our senior clients.
X-ALT-DESC;FMTTYPE=text/html:This month Elisha Patrick\, a 3rd generation Brookdale employee will share stories and lessons learned growing up in the senior care community<br />\nThe Senior Services Collaborative Monthly Meeting is a gathering that brings together local organizations and service providers to share resources\, discuss challenges\, and collaborate on innovative solutions. Each meeting typically features guest speakers presenting on relevant topics and open discussions aimed at fostering partnerships and improving access to services for seniors. It&#39\;s a great opportunity to network\, exchange ideas\, and collectively work towards creating a more supportive environment for each other and our senior clients.&nbsp\;
LOCATION:Oro Valley Church of the Apostles 12111 N La Cholla Blvd Oro Valley
UID:e.801.3651
SEQUENCE:3
DTSTAMP:20260419T194533Z
URL:https://business.orovalleychamber.com/events/details/senior-services-collaborative-monthly-meeting-04-14-2026-3651
END:VEVENT

END:VCALENDAR
