BEGIN:VCALENDAR
VERSION:2.0
PRODID:-//ChamberMaster//Event Calendar 2.0//EN
METHOD:PUBLISH
X-PUBLISHED-TTL:P3D
REFRESH-INTERVAL:P3D
CALSCALE:GREGORIAN
BEGIN:VEVENT
DTSTART:20260113T213000Z
DTEND:20260113T230000Z
X-MICROSOFT-CDO-ALLDAYEVENT:FALSE
SUMMARY:Senior Services Collaborative Monthly Meeting
DESCRIPTION:This month's talk is on senior fitness presented by Dawna Kelch with F45 in Oro Valley. Dawna is a Certified Personal Trainer and studio manager at F45 in Oro Valley.  She has been coaching for about 8 years following an engineering career with Toyota Manufacturing in KY. At 62 she still enjoys working out consistently\, playing golf and traveling. She competed in swimming from 5 years old thru college as well as played collegiate basketball. Her passion is helping others to stay healthy\, especially as they age.\n\n\n\nThe Senior Services Collaborative Monthly Meeting is a gathering that brings together local organizations and service providers to share resources\, discuss challenges\, and collaborate on innovative solutions. Each meeting typically features guest speakers presenting on relevant topics and open discussions aimed at fostering partnerships and improving access to services for seniors. It's a great opportunity to network\, exchange ideas\, and collectively work towards creating a more supportive environment for each other and our senior clients.
X-ALT-DESC;FMTTYPE=text/html:<span style="font-size:14px\;">This month&#39\;s talk is on senior fitness presented by Dawna Kelch with F45 in Oro Valley. Dawna is a Certified Personal Trainer and studio manager at F45 in Oro Valley.&nbsp\; She has been coaching for about 8 years following an engineering career with Toyota Manufacturing in KY. At 62 she still enjoys working out consistently\, playing golf and traveling. She competed in swimming from 5 years old thru college as well as played collegiate basketball. Her passion is helping others to stay healthy\, especially as they age.<br />\n<br />\nThe Senior Services Collaborative Monthly Meeting is a gathering that brings together local organizations and service providers to share resources\, discuss challenges\, and collaborate on innovative solutions. Each meeting typically features guest speakers presenting on relevant topics and open discussions aimed at fostering partnerships and improving access to services for seniors. It&#39\;s a great opportunity to network\, exchange ideas\, and collectively work towards creating a more supportive environment for each other and our senior clients.&nbsp\;</span>
LOCATION:Oro Valley Church of the Apostles 12111 N La Cholla Blvd Oro Valley
UID:e.801.3648
SEQUENCE:3
DTSTAMP:20260422T161323Z
URL:https://business.orovalleychamber.com/events/details/senior-services-collaborative-monthly-meeting-01-13-2026-3648
END:VEVENT

END:VCALENDAR
