BEGIN:VCALENDAR
VERSION:2.0
PRODID:-//ChamberMaster//Event Calendar 2.0//EN
METHOD:PUBLISH
X-PUBLISHED-TTL:P3D
REFRESH-INTERVAL:P3D
CALSCALE:GREGORIAN
BEGIN:VEVENT
DTSTART:20251212T000000Z
DTEND:20251212T020000Z
X-MICROSOFT-CDO-ALLDAYEVENT:FALSE
SUMMARY:Member Appreciation Holiday Party 2025
DESCRIPTION:Please join the staff\, board and members of your Oro Valley Chamber to help us celebrate the season and say thank you to our members. \n\nFree for Chamber Members!\n\nWe'll be collecting items to benefit the Amphi Foundation Clothing Bank for children. All new\, unworn clothing will be accepted\, preferably pants for any age. Our goal is to help clear out the list of items from the Amphi Foundation's Wish Page which can be accessed with the link below. You can either have the item delivered directly to the Foundation or you can bring it to our event.\n\nAmazon.com\n\n\n\n**We will be giving out door prizes this year! So bring a door prize and we'll give your business a shout out before we draw the winner!
X-ALT-DESC;FMTTYPE=text/html:<p style="margin: 0px\; padding: 0px\; color: rgb(64\, 63\, 66)\; font-family: Arial\, Verdana\, Helvetica\, sans-serif\; font-size: 14px\; white-space-collapse: preserve\;"><span style="font-size:18px\;"><span style="color: black\;">Please join the staff\, board and members of your Oro Valley Chamber to help us celebrate the season and say </span><span style="color: black\; font-weight: bold\;">thank you</span><span style="color: black\;"> to our members. </span></span></p>\n\n<p style="margin: 0px\; padding: 0px\; color: rgb(64\, 63\, 66)\; font-family: Arial\, Verdana\, Helvetica\, sans-serif\; font-size: 14px\; white-space-collapse: preserve\;"><span style="font-size:18px\;"><span style="color: red\; font-weight: bold\;">Free</span><span style="color: black\; font-weight: bold\;"> </span><span style="color: black\;">for </span><span style="color: green\; font-weight: bold\;">Chamber Members</span><span style="color: green\;">!</span></span></p>\n\n<p style="margin: 0px\; padding: 0px\; color: rgb(64\, 63\, 66)\; font-family: Arial\, Verdana\, Helvetica\, sans-serif\; font-size: 14px\; white-space-collapse: preserve\;"><span style="font-size:18px\;"><span style="color: black\;">We&#39\;ll be collecting items to benefit the Amphi Foundation Clothing Bank for children. All </span><span style="color: black\; font-weight: bold\;">new</span><span style="color: black\;">\, </span><span style="color: black\; font-weight: bold\;">unworn</span><span style="color: black\;"> clothing will be accepted\, preferably <b>pants for any age</b></span><span style="color: black\;">. Our goal is to help clear out the list of items from the Amphi Foundation&#39\;s Wish Page which can be accessed with the link below. You can either have the item delivered directly to the Foundation or you can bring it to our event.</span></span><br />\n<a href="https://www.amazon.com/hz/wishlist/ls/EYVL5F1AKRUT/">Amazon.com</a></p>\n\n<p style="white-space-collapse: preserve\; margin: 0px\; padding: 0px\; color: rgb(64\, 63\, 66)\; font-family: Arial\, Verdana\, Helvetica\, sans-serif\; font-size: 14px\;"><br />\n<span style="font-size: 18px\;"><span style="color: black\;">**We will be giving out door prizes this year! So bring a door prize and we&#39\;ll give your business a shout out before we draw the winner!</span></span></p>\n\n<div>&nbsp\;</div>\n
LOCATION:Tohono Chul Gardens\, Gallery & Bistro We'll party in the Bistro! 7366 N Paseo del Norte
UID:e.801.3532
SEQUENCE:3
DTSTAMP:20260422T155623Z
URL:https://business.orovalleychamber.com/events/details/member-appreciation-holiday-party-2025-3532
END:VEVENT

END:VCALENDAR
