BEGIN:VCALENDAR
VERSION:2.0
PRODID:-//ChamberMaster//Event Calendar 2.0//EN
METHOD:PUBLISH
X-PUBLISHED-TTL:P3D
REFRESH-INTERVAL:P3D
CALSCALE:GREGORIAN
BEGIN:VEVENT
DTSTART:20250315T000000Z
DTEND:20250315T030000Z
X-MICROSOFT-CDO-ALLDAYEVENT:FALSE
SUMMARY:Jazz Under the Stars at Tohono Chul
DESCRIPTION:Experience the perfect blend of live music\, great food\, and a stunning garden atmosphere at Jazz Under the Stars at Tohono Chul?s Garden Bistro. Join us on Friday and Saturday evenings (February 21st ? May 10th) for refreshing cocktails\, craft brews\, and a locally sourced menu of delicious bites while enjoying the smooth sounds of talented local jazz musicians. Best of all\, there?s no cover charge! Make your weekend memorable with an evening of live jazz in one of Tucson?s most picturesque settings.
X-ALT-DESC;FMTTYPE=text/html:Experience the perfect blend of live music\, great food\, and a stunning garden atmosphere at Jazz Under the Stars at Tohono Chul?s Garden Bistro. Join us on Friday and Saturday evenings (February 21st ? May 10th) for refreshing cocktails\, craft brews\, and a locally sourced menu of delicious bites while enjoying the smooth sounds of talented local jazz musicians. Best of all\, there?s no cover charge! Make your weekend memorable with an evening of live jazz in one of Tucson?s most picturesque settings.
LOCATION:Tohono Chul Garden Bistro 7366 N Paseo Del Norte Tucson\, AZ 85704
UID:e.801.3592
SEQUENCE:3
DTSTAMP:20260421T131939Z
URL:https://business.orovalleychamber.com/events/details/jazz-under-the-stars-at-tohono-chul-03-14-2025-3592
END:VEVENT

END:VCALENDAR
