BEGIN:VCALENDAR
VERSION:2.0
PRODID:-//ChamberMaster//Event Calendar 2.0//EN
METHOD:PUBLISH
X-PUBLISHED-TTL:P3D
REFRESH-INTERVAL:P3D
CALSCALE:GREGORIAN
BEGIN:VEVENT
DTSTART:20240415T200000Z
DTEND:20240415T203000Z
X-MICROSOFT-CDO-ALLDAYEVENT:FALSE
SUMMARY:II Sons for Men Ribbon Cutting
DESCRIPTION:Join us to cut the ribbon on the third location\, but first in Oro Valley\, of II Sons for Men barber shop.
X-ALT-DESC;FMTTYPE=text/html:Join us to cut the ribbon on the third location\, but first in Oro Valley\, of II Sons for Men barber shop.&nbsp\;
LOCATION:II Sons for Men 10556 N Oracle Rd
UID:e.801.2676
SEQUENCE:3
DTSTAMP:20260422T160550Z
URL:https://business.orovalleychamber.com/events/details/ii-sons-for-men-ribbon-cutting-2676
END:VEVENT

END:VCALENDAR
