BEGIN:VCALENDAR
VERSION:2.0
PRODID:-//ChamberMaster//Event Calendar 2.0//EN
METHOD:PUBLISH
X-PUBLISHED-TTL:P3D
REFRESH-INTERVAL:P3D
CALSCALE:GREGORIAN
BEGIN:VEVENT
DTSTART:20260409T230000Z
DTEND:20260410T010000Z
X-MICROSOFT-CDO-ALLDAYEVENT:FALSE
SUMMARY:Evening Mixer with Pima Federal Credit Union
DESCRIPTION:Join us for an evening mixer! Connect with fellow professionals\, entrepreneurs\, and community leaders in a relaxed and welcoming atmosphere. The premier networking event you won't want to miss!\n\n\n\nPima Federal Credit Union will be hosting us in their courtyard. You won't want to miss out on catered El Molinitos and a fun door prize!
X-ALT-DESC;FMTTYPE=text/html:Join us for an evening mixer! Connect with fellow professionals\, entrepreneurs\, and community leaders in a relaxed and welcoming atmosphere. The premier networking event you won&#39\;t want to miss!<br />\n<br />\nPima Federal Credit Union will be hosting us in their courtyard. You won&#39\;t want to miss out on catered El Molinitos and a fun door prize!
LOCATION:Pima Federal's Financial Plaza 6860 N. Oracle Rd
UID:e.801.4360
SEQUENCE:3
DTSTAMP:20260419T200046Z
URL:https://business.orovalleychamber.com/events/details/evening-mixer-wtih-pima-federal-credit-union-4360
END:VEVENT

END:VCALENDAR
