BEGIN:VCALENDAR
VERSION:2.0
PRODID:-//ChamberMaster//Event Calendar 2.0//EN
METHOD:PUBLISH
X-PUBLISHED-TTL:P3D
REFRESH-INTERVAL:P3D
CALSCALE:GREGORIAN
BEGIN:VEVENT
DTSTART:20260412T233000Z
DTEND:20260413T023000Z
X-MICROSOFT-CDO-ALLDAYEVENT:FALSE
SUMMARY:A Taste of Oro Valley
DESCRIPTION:The Rotary Club of Oro Valley presents "A Taste of Oro Valley" food fair and fundraising event at historic Steam Pump Ranch in Oro Valley on Sunday\, April 12\, 2026 from 4:30   7:30 PM. Come taste local cuisine from a variety of area restaurants\, visit our wine and beer garden\, and enjoy live music from the OnesAll band. Proceeds will benefit Edge High School and StandUp for Kids - Tucson. Purchase tickets and sponsorships at tasteoforovalley.org.
X-ALT-DESC;FMTTYPE=text/html:The Rotary Club of Oro Valley presents &ldquo\;A Taste of Oro Valley&rdquo\; food fair and fundraising event at historic Steam Pump Ranch in Oro Valley on Sunday\, April 12\, 2026 from 4:30 &ndash\; 7:30 PM. Come taste local cuisine from a variety of area restaurants\, visit our wine and beer garden\, and enjoy live music from the OnesAll band. Proceeds will benefit Edge High School and StandUp for Kids - Tucson. Purchase tickets and sponsorships at tasteoforovalley.org.
LOCATION:Steam Pump Ranch 10901 N Oracle Road Oro Valley\, AZ 85737
UID:e.801.4509
SEQUENCE:3
DTSTAMP:20260419T200047Z
URL:https://business.orovalleychamber.com/events/details/a-taste-of-oro-valley-4509
END:VEVENT

END:VCALENDAR
